BEGIN:VCALENDAR
VERSION:2.0
PRODID:-//hacksw/handcal//NONSGML v1.0//EN
BEGIN:VEVENT
DTSTART:20250114T113000Z
DTEND:20250114T130000Z
LOCATION:
ORGANIZER;CN=Jacqueline Pasdeloup:MAILTO:jacqueline@asso-supelec.org
SUMMARY:Freelances : Déterminez les initiatives clés qui donneront une longueur d’avance à votre business
DESCRIPTION:\nMême les meilleures organisations sont souvent prises entre le marteau et l’enclume des activités en cours et des nouveaux projets. Quand ça arrive aux freelances, ils tendent à se disperser et...
URL:https://association.centralesupelec-alumni.com/fr/event/freelances-determinez-les-initiatives-cles-qui-donneront-une-longueur-d-avance-a-votre-business/2025/01/14/8253
BEGIN:VALARM
TRIGGER:-P0DT1H0M0S
ACTION:DISPLAY
END:VALARM
END:VEVENT
END:VCALENDAR