BEGIN:VCALENDAR
VERSION:2.0
PRODID:-//hacksw/handcal//NONSGML v1.0//EN
BEGIN:VEVENT
DTSTART:20241210T113000Z
DTEND:20241210T130000Z
LOCATION:
ORGANIZER;CN=Jacqueline Pasdeloup:MAILTO:jacqueline@asso-supelec.org
SUMMARY:Communicate with impact / EN ANGLAIS UNIQUEMENT
DESCRIPTION:\nWEBINAIRE EN ANGLAIS UNIQUEMENTFermeture des inscriptions le 10 décembre à 9 h\nMany of the challenges that we face at work stem from communication issues. Lack of support from your boss or other...
URL:https://association.centralesupelec-alumni.com/fr/event/communicate-with-impact-en-anglais-uniquement/2024/12/10/8252
BEGIN:VALARM
TRIGGER:-P0DT1H0M0S
ACTION:DISPLAY
END:VALARM
END:VEVENT
END:VCALENDAR