BEGIN:VCALENDAR
VERSION:2.0
PRODID:-//hacksw/handcal//NONSGML v1.0//EN
BEGIN:VEVENT
DTSTART:20241112T113000Z
DTEND:20241112T130000Z
LOCATION:
ORGANIZER;CN=Jacqueline Pasdeloup:MAILTO:jacqueline@asso-supelec.org
SUMMARY:Devenir une autorité dans son domaine : comment se construire une image de marque distinctive pour plus d’impact
DESCRIPTION:Distinguez-vous de vos compétiteurs et attirez les meilleures opportunités via une image de marque forte.\nLors même qu’on a conscience de la valeur qu’on peut apporter, encore faut-il que ce soit...
URL:https://association.centralesupelec-alumni.com/fr/event/devenir-une-autorite-dans-son-domaine-comment-se-construire-une-image-de-marque-distinctive-pour-plus-d-impact/2024/11/12/8251
BEGIN:VALARM
TRIGGER:-P0DT1H0M0S
ACTION:DISPLAY
END:VALARM
END:VEVENT
END:VCALENDAR