BEGIN:VCALENDAR
VERSION:2.0
PRODID:-//hacksw/handcal//NONSGML v1.0//EN
BEGIN:VEVENT
DTSTART:20241015T103000Z
DTEND:20241015T120000Z
LOCATION:
ORGANIZER;CN=Jacqueline Pasdeloup:MAILTO:jacqueline@asso-supelec.org
SUMMARY:Expand your career horizons and evaluate your options / EN ANGLAIS UNIQUEMENT
DESCRIPTION:\nWEBINAIRE EN ANGLAIS UNIQUEMENT\nWhen you strive to grow professionally, whether you work for an organization or have your own business, on a regular basis, you reach a fork in the road.\nIn those...
URL:https://association.centralesupelec-alumni.com/fr/event/expand-your-career-horizons-and-evaluate-your-options-en-anglais-uniquement/2024/10/15/8249
BEGIN:VALARM
TRIGGER:-P0DT1H0M0S
ACTION:DISPLAY
END:VALARM
END:VEVENT
END:VCALENDAR