BEGIN:VCALENDAR
VERSION:2.0
PRODID:-//hacksw/handcal//NONSGML v1.0//EN
BEGIN:VEVENT
DTSTART:20241029T073000Z
DTEND:20241029T083000Z
LOCATION:
ORGANIZER;CN=Jacqueline Pasdeloup:MAILTO:jacqueline@asso-supelec.org
SUMMARY:Career sprint | Webinar : L'entretien réseau
DESCRIPTION:\nLa démarche réseau est la méthode qui vous donnera le plus de chances d’accéder à votre futur job. Mais comment développer ce réseau et accéder à des décideurs que pourtant vous ne connaissez pas...
URL:https://association.centralesupelec-alumni.com/fr/event/career-sprint-webinar-l-entretien-reseau/2024/10/29/8237
BEGIN:VALARM
TRIGGER:-P0DT1H0M0S
ACTION:DISPLAY
END:VALARM
END:VEVENT
END:VCALENDAR