BEGIN:VCALENDAR
VERSION:2.0
PRODID:-//hacksw/handcal//NONSGML v1.0//EN
BEGIN:VEVENT
DTSTART:20241022T063000Z
DTEND:20241022T073000Z
LOCATION:
ORGANIZER;CN=Jacqueline Pasdeloup:MAILTO:jacqueline@asso-supelec.org
SUMMARY:Career sprint | Webinar : Le profil LinkedIn
DESCRIPTION:\nLinkedIn est un outil incontournable pour la visibilité digitale et la mise en relation. Et c’est bien parce qu’il est puissant que cet outil nécessite une utilisation professionnelle...
URL:https://association.centralesupelec-alumni.com/fr/event/career-sprint-webinar-le-profil-linkedin/2024/10/22/8236
BEGIN:VALARM
TRIGGER:-P0DT1H0M0S
ACTION:DISPLAY
END:VALARM
END:VEVENT
END:VCALENDAR