BEGIN:VCALENDAR
VERSION:2.0
PRODID:-//hacksw/handcal//NONSGML v1.0//EN
BEGIN:VEVENT
DTSTART:20241015T063000Z
DTEND:20241015T073000Z
LOCATION:
ORGANIZER;CN=Jacqueline Pasdeloup:MAILTO:jacqueline@asso-supelec.org
SUMMARY:Career sprint | Webinar : La structure du CV
DESCRIPTION:\nLe CV a toujours été l’outil de base de candidature à un poste. Mais comment le présenter pour qu’il soit le plus efficace possible et réponde bien aux attentes des recruteurs ?\nCet atelier,...
URL:https://association.centralesupelec-alumni.com/fr/event/career-sprint-webinar-la-structure-du-cv/2024/10/15/8235
BEGIN:VALARM
TRIGGER:-P0DT1H0M0S
ACTION:DISPLAY
END:VALARM
END:VEVENT
END:VCALENDAR