BEGIN:VCALENDAR
VERSION:2.0
PRODID:-//hacksw/handcal//NONSGML v1.0//EN
BEGIN:VEVENT
DTSTART:20241105T170000Z
DTEND:20241105T183000Z
LOCATION:
ORGANIZER;CN=Jacqueline Pasdeloup:MAILTO:jacqueline@asso-supelec.org
SUMMARY:AVARAP : réunion d'information
DESCRIPTION:\nATTENTION : \nAVANT de vous inscrire sur notre site, \nveuillez vous pré inscrire sur le site AVARAP en cliquant ici \nle plus tôt possible et au moins une semaine avant cette date \nVous trouverez ...
URL:https://association.centralesupelec-alumni.com/fr/event/avarap-reunion-d-information/2024/11/05/8231
BEGIN:VALARM
TRIGGER:-P0DT1H0M0S
ACTION:DISPLAY
END:VALARM
END:VEVENT
END:VCALENDAR