BEGIN:VCALENDAR
VERSION:2.0
PRODID:-//hacksw/handcal//NONSGML v1.0//EN
BEGIN:VEVENT
DTSTART:20241018T070000Z
DTEND:20241018T150000Z
LOCATION:ORANGE  \n111, Quai du Président Roosevelt \n92130 ISSY-LES-MOULINEAUX
ORGANIZER;CN=Gabriela Belaid - CentraleSupelec Au Féminin (CSA):MAILTO:gabriela.belaid@centraliens.net
SUMMARY:Hackathon Orange Women In Tech Inclusion Diversité Handicap - 18 octobre 2024
DESCRIPTION:Centralesupelec au Féminin est partenaire du Hackathon Orange Women In Tech Inclusion Diversité Handicap\nInscription via ce lien exclusivement  : Hackathon Orange Women In Tech Inclusion Diversité...
URL:https://association.centralesupelec-alumni.com/fr/group/centralesupelec-au-feminin-csa/73/calendar/hackathon-orange-women-in-tech-inclusion-diversite-handicap-18-octobre-2024/2024/10/18/8229
BEGIN:VALARM
TRIGGER:-P0DT1H0M0S
ACTION:DISPLAY
END:VALARM
END:VEVENT
END:VCALENDAR