BEGIN:VCALENDAR
VERSION:2.0
PRODID:-//hacksw/handcal//NONSGML v1.0//EN
BEGIN:VEVENT
DTSTART:20241019T071500Z
DTEND:20241019T140000Z
LOCATION:Chateau de Castrie \nRue du Château \n34160 CASTRIES
ORGANIZER;CN=Dominique Launay - Occitanie-Méditerranée (CSA):MAILTO:dominique.launay@centraliens.net
SUMMARY:Visite du Chateau de Castries (34) et de son aqueduc
DESCRIPTION:Pour cette sortie d’automne, nous ferons un retour historique, culturel et technique sur le Château de Castries, ses jardins, inspirés par Le Notre, et son Aqueduc conçu par Pierre-Paul Riquet.Cette...
URL:https://association.centralesupelec-alumni.com/fr/group/occitanie-me-diterranee-csa/305/calendar/visite-du-chateau-de-castries-34-et-de-son-aqueduc/2024/10/19/8227
BEGIN:VALARM
TRIGGER:-P0DT1H0M0S
ACTION:DISPLAY
END:VALARM
END:VEVENT
END:VCALENDAR