BEGIN:VCALENDAR
VERSION:2.0
PRODID:-//hacksw/handcal//NONSGML v1.0//EN
BEGIN:VEVENT
DTSTART:20240924T101500Z
DTEND:20240924T114500Z
LOCATION:Maison des CentraleSupélec \n8, Rue Jean Goujon \n75008 PARIS
ORGANIZER;CN=Pascal Morand - Marine EauDouce-EauSalée (CSA):MAILTO:pascalmorand@hotmail.fr
SUMMARY:Centrale Osmotique  : Une Grande Première portée par les CentraleSupélec et le CNRS, notamment.
DESCRIPTION:\nChers Camarades du Groupe MARINE EauDouce-EauSalée et des Groupes Bretagne et Île de France, cet événement est présenté et enregistré en Double-Hybride, ce qui signifie qu'il y aura des...
URL:https://association.centralesupelec-alumni.com/fr/group/marine-eaudouce-eausalee-csa/560/calendar/centrale-osmotique-une-grande-premiere-portee-par-les-centralesupelec-et-le-cnrs-notamment/2024/09/24/8224
BEGIN:VALARM
TRIGGER:-P0DT1H0M0S
ACTION:DISPLAY
END:VALARM
END:VEVENT
END:VCALENDAR