BEGIN:VCALENDAR
VERSION:2.0
PRODID:-//hacksw/handcal//NONSGML v1.0//EN
BEGIN:VEVENT
DTSTART:20250116T113000Z
DTEND:20250116T130000Z
LOCATION:
ORGANIZER;CN=Jacqueline Pasdeloup:MAILTO:jacqueline@asso-supelec.org
SUMMARY:Ose ton charisme, déploie ton leadership
DESCRIPTION:\nSais-tu que tu détiens le pouvoir d'inspirer des foules entières ?Tu n'y crois pas ? Et pourtant un leader emblématique sommeille en toi !Viens découvrir les clés pour devenir le manager...
URL:https://association.centralesupelec-alumni.com/fr/event/ose-ton-charisme-deploie-ton-leadership/2025/01/16/8216
BEGIN:VALARM
TRIGGER:-P0DT1H0M0S
ACTION:DISPLAY
END:VALARM
END:VEVENT
END:VCALENDAR