BEGIN:VCALENDAR
VERSION:2.0
PRODID:-//hacksw/handcal//NONSGML v1.0//EN
BEGIN:VEVENT
DTSTART:20241121T113000Z
DTEND:20241121T130000Z
LOCATION:
ORGANIZER;CN=Jacqueline Pasdeloup:MAILTO:jacqueline@asso-supelec.org
SUMMARY:Transforme un conflit en relation apaisée
DESCRIPTION: Tu es déstabilisé, bloqué, paralysé dans une situation qui te semble sans issue.Et pourtant, les clés pour dénouer la situation sont à portée de main.Viens découvrir comment passer du désaccord au...
URL:https://association.centralesupelec-alumni.com/fr/event/transforme-un-conflit-en-relation-apaisee/2024/11/21/8215
BEGIN:VALARM
TRIGGER:-P0DT1H0M0S
ACTION:DISPLAY
END:VALARM
END:VEVENT
END:VCALENDAR