BEGIN:VCALENDAR
VERSION:2.0
PRODID:-//hacksw/handcal//NONSGML v1.0//EN
BEGIN:VEVENT
DTSTART:20241017T103000Z
DTEND:20241017T120000Z
LOCATION:
ORGANIZER;CN=Jacqueline Pasdeloup:MAILTO:jacqueline@asso-supelec.org
SUMMARY:Élabore un projet qui te ressemble
DESCRIPTION:\nAnnulé à la demande d'Anita Sillon\n Sais-tu que tu disposes d’un savoir-faire dans lequel tu excelles ? \nChacun a un positionnement spécifique qui le différencie par rapport aux autres : il est...
URL:https://association.centralesupelec-alumni.com/fr/event/elabore-un-projet-qui-te-ressemble/2024/10/17/8213
BEGIN:VALARM
TRIGGER:-P0DT1H0M0S
ACTION:DISPLAY
END:VALARM
END:VEVENT
END:VCALENDAR