BEGIN:VCALENDAR
VERSION:2.0
PRODID:-//hacksw/handcal//NONSGML v1.0//EN
BEGIN:VEVENT
DTSTART:20241217T183000Z
DTEND:20241217T210000Z
LOCATION:Le Thé à Coudre \n6, Rue Servan \n38000 GRENOBLE
ORGANIZER;CN=Philippe Chinkirch - Dauphiné - Savoie (CSA):MAILTO:philippe.chinkirch@centraliens.net
SUMMARY:Cocktail de Noël et soirée réseau
DESCRIPTION:Pour conclure l’année 2024 et préparer 2025, participez au Cocktail de Noël et à la soirée réseau, mardi 17 décembre !Cette manifestation réunit les diplômés des écoles CentraleSupélec et Centrales de...
URL:https://association.centralesupelec-alumni.com/fr/group/dauphine-savoie-csa/307/calendar/cocktail-de-noel-et-soiree-reseau/2024/12/17/8188
BEGIN:VALARM
TRIGGER:-P0DT1H0M0S
ACTION:DISPLAY
END:VALARM
END:VEVENT
END:VCALENDAR