BEGIN:VCALENDAR
VERSION:2.0
PRODID:-//hacksw/handcal//NONSGML v1.0//EN
BEGIN:VEVENT
DTSTART:20241210T110000Z
DTEND:20241210T130000Z
LOCATION:Restaurant Le Bœuf au Comptoir \n17, Avenue Félix Viallet \n38000 GRENOBLE
ORGANIZER;CN=Philippe Chinkirch - Dauphiné - Savoie (CSA):MAILTO:philippe.chinkirch@centraliens.net
SUMMARY:Repas mensuel à Grenoble
DESCRIPTION:Chère camarade, cher camarade,Tu es cordialement invité(e) à nos repas mensuels qui ont lieu le premier ou le deuxième mardi de chaque mois (hors vacances).C’est un rendez-vous très sympathique… nous ...
URL:https://association.centralesupelec-alumni.com/fr/group/dauphine-savoie-csa/307/calendar/repas-mensuel-a-grenoble/2024/12/10/8187
BEGIN:VALARM
TRIGGER:-P0DT1H0M0S
ACTION:DISPLAY
END:VALARM
END:VEVENT
END:VCALENDAR