BEGIN:VCALENDAR
VERSION:2.0
PRODID:-//hacksw/handcal//NONSGML v1.0//EN
BEGIN:VEVENT
DTSTART:20240930T180000Z
DTEND:20240930T200000Z
LOCATION:https://zoom.us/
ORGANIZER;CN=Philippe Chinkirch - Dauphiné - Savoie (CSA):MAILTO:philippe.chinkirch@centraliens.net
SUMMARY:Présentation de la centrale du Bugey
DESCRIPTION:Chères et chers camarades,Notre camarade François Brunschwig (S72) s'investit avec passion pour coordonner la visite de la centrale nucléaire du Bugey qui aura lieu le vendredi 4 octobre.François a la...
URL:https://association.centralesupelec-alumni.com/fr/group/dauphine-savoie-csa/307/calendar/presentation-de-la-centrale-du-bugey/2024/09/30/8183
BEGIN:VALARM
TRIGGER:-P0DT1H0M0S
ACTION:DISPLAY
END:VALARM
END:VEVENT
END:VCALENDAR