BEGIN:VCALENDAR
VERSION:2.0
PRODID:-//hacksw/handcal//NONSGML v1.0//EN
BEGIN:VEVENT
DTSTART:20241017T073000Z
DTEND:20241017T120000Z
LOCATION:3DS Paris Campus \n10, Rue Marcel Dassault \n78140 VELIZY-VILLACOUBLAY
ORGANIZER;CN=Guy Delcroix - Promotion ECP 1973:MAILTO:guy.delcroix@wanadoo.fr
SUMMARY:Dassault Systemes et les univers virtuels / Histoire d'une start-up française
DESCRIPTION:Chère amie, cher ami,En ces temps où pas un jour ne se passe sans que l’on ne souligne l’importance stratégique des outils de virtualisation et d’intelligence artificielle générative, nous t'invitons ...
URL:https://association.centralesupelec-alumni.com/fr/group/promotion-ecp-1973/159/calendar/dassault-systemes-et-les-univers-virtuels-histoire-d-une-start-up-francaise/2024/10/17/8155
BEGIN:VALARM
TRIGGER:-P0DT1H0M0S
ACTION:DISPLAY
END:VALARM
END:VEVENT
END:VCALENDAR