BEGIN:VCALENDAR
VERSION:2.0
PRODID:-//hacksw/handcal//NONSGML v1.0//EN
BEGIN:VEVENT
DTSTART:20240705T103000Z
DTEND:20240705T123000Z
LOCATION:Tokyo \n2-27-21 Minami-Aoyama, Minato City, Tokyo, Japan \n107-0062 MINATO CITY
ORGANIZER;CN=Laurent Wolff - Japon (CSA):MAILTO:laurent.wolff@centraliens.net
SUMMARY:Dîner Networking à Tokyo
DESCRIPTION:\nA l'occasion de la CSummer Week, nous reprendrons les activités au Japon. Nous vous donnons rendez-vous le vendredi 5 juillet entre 19h et 19h30,  au café Citron, Minami Aoyama 2-27-21 pour un...
URL:https://association.centralesupelec-alumni.com/fr/group/japon-csa/237/calendar/diner-networking-a-tokyo/2024/07/05/8148
BEGIN:VALARM
TRIGGER:-P0DT1H0M0S
ACTION:DISPLAY
END:VALARM
END:VEVENT
END:VCALENDAR