BEGIN:VCALENDAR
VERSION:2.0
PRODID:-//hacksw/handcal//NONSGML v1.0//EN
BEGIN:VEVENT
DTSTART:20241016T190000Z
DTEND:20241016T203000Z
LOCATION:Théâtre Libre \n4, Boulevard de Strasbourg \n75010 PARIS
ORGANIZER;CN=Jacqueline Pasdeloup - CSA Ile de France:MAILTO:jacqueline@asso-supelec.org
SUMMARY:NOUVEAU ! Sortie théâtre : « Le cercle des poètes disparus » au Théâtre Libre
DESCRIPTION:\nDevant le succès remporté et les nouvelles demandes d'inscription reçues,\nnous avons obtenu du théâtre 10 places supplémentaires.\nNous vous invitons à vous inscrire d'ici demain 12 septembre à 15 ...
URL:https://association.centralesupelec-alumni.com/fr/group/csa-ile-de-france/587/calendar/nouveau-sortie-theatre-le-cercle-des-poetes-disparus-au-theatre-libre/2024/10/16/8143
BEGIN:VALARM
TRIGGER:-P0DT1H0M0S
ACTION:DISPLAY
END:VALARM
END:VEVENT
END:VCALENDAR