BEGIN:VCALENDAR
VERSION:2.0
PRODID:-//hacksw/handcal//NONSGML v1.0//EN
BEGIN:VEVENT
DTSTART:20240629T090000Z
DTEND:20240629T120000Z
LOCATION:Maison des CentraleSupélec \n8, Rue Jean Goujon \n75008 PARIS
ORGANIZER;CN=Pascal Morand - Marine EauDouce-EauSalée (CSA):MAILTO:pascalmorand@hotmail.fr
SUMMARY:Conférence  - "OCEANS -Espaces de Vie à préserver" / Fête de la Voile CSA
DESCRIPTION:\n Dans le cadre de la CSummer Weekde CentraleSupélec Alumni, les groupesVOILE – MARINE - ESS                  ont le grand plaisir de convier    Etudiants et Diplômés, le 29 juin 11h      à    La...
URL:https://association.centralesupelec-alumni.com/fr/group/marine-eaudouce-eausalee-csa/560/calendar/conference-oceans-espaces-de-vie-a-preserver-fete-de-la-voile-csa/2024/06/29/8077
BEGIN:VALARM
TRIGGER:-P0DT1H0M0S
ACTION:DISPLAY
END:VALARM
END:VEVENT
END:VCALENDAR