BEGIN:VCALENDAR
VERSION:2.0
PRODID:-//hacksw/handcal//NONSGML v1.0//EN
BEGIN:VEVENT
DTSTART:20240514T163000Z
DTEND:20240514T200000Z
LOCATION:La Scène \n190, Rue Pierre Duhem  Pole d'activités Aix Les Milles \n13290 AIX-EN-PROVENCE
ORGANIZER;CN=Philippe Cabrit - Provence (CSA):MAILTO:philippe.cabrit@centralesupelec-alumni.com
SUMMARY:Afterwork / Afterschool CENTRALESUPELEC le 14 mai
DESCRIPTION:\nNotre prochain afterwork / afterschool aura lieu le mardi 14 mai à la Scène2 aux  Milles à Aix en Provence. La Scène est maintenant dans un nouveau lieu, très sympa, que nous avons expérimenté au...
URL:https://association.centralesupelec-alumni.com/fr/group/provence-csa/347/calendar/afterwork-afterschool-centralesupelec-le-14-mai/2024/05/14/8033
BEGIN:VALARM
TRIGGER:-P0DT1H0M0S
ACTION:DISPLAY
END:VALARM
END:VEVENT
END:VCALENDAR