BEGIN:VCALENDAR
VERSION:2.0
PRODID:-//hacksw/handcal//NONSGML v1.0//EN
BEGIN:VEVENT
DTSTART:20241008T063000Z
DTEND:20241008T073000Z
LOCATION:
ORGANIZER;CN=Jacqueline Pasdeloup:MAILTO:jacqueline@asso-supelec.org
SUMMARY:Webinaire " Le pitch de présentation "
DESCRIPTION:\nUne bonne présentation à l’oral est un facteur absolument clé pour la réussite de votre repositionnement professionnel.Entre deux portes, dans un cocktail, en réseau ou en recrutement, utilisez tout...
URL:https://association.centralesupelec-alumni.com/fr/event/webinaire-le-pitch-de-presentation/2024/10/08/8031
BEGIN:VALARM
TRIGGER:-P0DT1H0M0S
ACTION:DISPLAY
END:VALARM
END:VEVENT
END:VCALENDAR