BEGIN:VCALENDAR
VERSION:2.0
PRODID:-//hacksw/handcal//NONSGML v1.0//EN
BEGIN:VEVENT
DTSTART:20240629T090000Z
DTEND:20240629T123000Z
LOCATION:Maison CentraleSupélec \n8, Rue Jean Goujon \n75008 PARIS
ORGANIZER;CN=CentraleSupélec Alumni:MAILTO:csa-alumni@centralesupelec-alumni.com
SUMMARY:Journée Portes Ouvertes CentraleSupélec Alumni -- Conférence Voile-Marine-ESS
DESCRIPTION:\nDans le cadre de la CSummer Weekde CentraleSupélec Alumni, les groupesVOILE – MARINE - ESS                  ont le grand plaisir de convier    Etudiants et Diplômés, le 29 juin 11h      à    La...
URL:https://association.centralesupelec-alumni.com/fr/event/journee-portes-ouvertes-centralesupelec-alumni-conference-voile-marine-ess/2024/06/29/7959
BEGIN:VALARM
TRIGGER:-P0DT1H0M0S
ACTION:DISPLAY
END:VALARM
END:VEVENT
END:VCALENDAR