BEGIN:VCALENDAR
VERSION:2.0
PRODID:-//hacksw/handcal//NONSGML v1.0//EN
BEGIN:VEVENT
DTSTART:20240523T180000Z
DTEND:20240523T190000Z
LOCATION:French Residence in London
ORGANIZER;CN=Brice Benoliel - Grande-Bretagne (CSA):MAILTO:brice.benoliel@centraliens.net
SUMMARY:Alumni Day Hackathon en partenariat avec l'ambassade de France
DESCRIPTION:Hello, En partenariat avec l'Ambassade de France, CentraleSupélec Alumni UK a monté une équipe pour participer au hackathon Alumni Day UK. De nombreuses autres écoles participent (X, HEC, Sciences...
URL:https://association.centralesupelec-alumni.com/fr/group/grande-bretagne-csa/265/calendar/alumni-day-hackathon-en-partenariat-avec-l-ambassade-de-france/2024/05/23/7956
BEGIN:VALARM
TRIGGER:-P0DT1H0M0S
ACTION:DISPLAY
END:VALARM
END:VEVENT
END:VCALENDAR