BEGIN:VCALENDAR
VERSION:2.0
PRODID:-//hacksw/handcal//NONSGML v1.0//EN
BEGIN:VEVENT
DTSTART:20240514T170000Z
DTEND:20240514T183000Z
LOCATION:Le clos de l' Aube Rouge Montpellier \n115, Allée de l'Aube Rouge \n34170 CASTELNAU-LE-LEZ
ORGANIZER;CN=Dominique Launay - Occitanie-Méditerranée (CSA):MAILTO:dominique.launay@centraliens.net
SUMMARY:Conférence  "Relance de l’energie nucléaire, espoirs et difficultés"
DESCRIPTION:CSA-OM et IESF-OM organisent une conférence dans le cadre de l'assemblée générale d'IESF-OMMonsieur Jean FLUCHERE , ancien directeur d'Edf Rhône-Alpes , nous présentera les espoirs et les difficultés ...
URL:https://association.centralesupelec-alumni.com/fr/group/occitanie-me-diterranee-csa/305/calendar/conference-relance-de-l-energie-nucleaire-espoirs-et-difficultes/2024/05/14/7938
BEGIN:VALARM
TRIGGER:-P0DT1H0M0S
ACTION:DISPLAY
END:VALARM
END:VEVENT
END:VCALENDAR