BEGIN:VCALENDAR
VERSION:2.0
PRODID:-//hacksw/handcal//NONSGML v1.0//EN
BEGIN:VEVENT
DTSTART:20161123T120000
DTEND:20161123T163000
LOCATION:Musée d'Orsay, Paris
ORGANIZER;CN=François Quris - Promotion ECP 1968:MAILTO:fx.quris@sfr.fr
SUMMARY:Notre déjeuner annuel !
DESCRIPTION:Cette année il aura lieu au Musée d'Orsay, le mercredi 23 novembre.\nRéservez tout de suite la date !\nEt venez nombreux !\nLe cinquantenaire de notre sortie d'Ecole approche à grands pas, soyons...
URL:https://association.centralesupelec-alumni.com/fr/group/promotion-ecp-1968/169/calendar/notre-dejeuner-annuel/2016/11/23/793
BEGIN:VALARM
TRIGGER:-P0DT1H0M0S
ACTION:DISPLAY
END:VALARM
END:VEVENT
END:VCALENDAR