BEGIN:VCALENDAR
VERSION:2.0
PRODID:-//hacksw/handcal//NONSGML v1.0//EN
BEGIN:VEVENT
DTSTART:20240318T180000Z
DTEND:20240318T200000Z
LOCATION:Maison de l'Europe \n90-92 Boulevard de la Plaine au Duc \n44200 NANTES
ORGANIZER;CN=Jean-Christophe Strich - Repreneurs (CSA):MAILTO:jc.strich@free.fr
SUMMARY:[Nantes] Reprise d'entreprise en Allemagne - conférence cocktail le 18 mars 2024
DESCRIPTION:Chers amis Repreneurs de CentraleSupelec,Le Club d'affaires franco-allemand Nantes-Atlantique (CAFANA) organise une conférence en présentiel sur le thème de laReprise d'entreprise en Allemagnele lundi...
URL:https://association.centralesupelec-alumni.com/fr/group/repreneurs-csa/331/calendar/-nantes-reprise-d-entreprise-en-allemagne-conference-cocktail-le-18-mars-2024/2024/03/18/7877
BEGIN:VALARM
TRIGGER:-P0DT1H0M0S
ACTION:DISPLAY
END:VALARM
END:VEVENT
END:VCALENDAR