BEGIN:VCALENDAR
VERSION:2.0
PRODID:-//hacksw/handcal//NONSGML v1.0//EN
BEGIN:VEVENT
DTSTART:20240320T100000Z
DTEND:20240320T113000Z
LOCATION:
ORGANIZER;CN=Jean-Christophe Strich - Repreneurs (CSA):MAILTO:jc.strich@free.fr
SUMMARY:Reprise d'entreprise : étapes clés et accompagnement (séminaire BPI France)
DESCRIPTION:Vous avez un projet de reprise d'entreprise et vous ne savez pas par où commencer ?\nDe nombreux acteurs publics et privés peuvent vous orienter, vous conseiller et vous accompagner dans votre projet ...
URL:https://association.centralesupelec-alumni.com/fr/group/repreneurs-csa/331/calendar/reprise-d-entreprise-etapes-cles-et-accompagnement-seminaire-bpi-france/2024/03/20/7867
BEGIN:VALARM
TRIGGER:-P0DT1H0M0S
ACTION:DISPLAY
END:VALARM
END:VEVENT
END:VCALENDAR