BEGIN:VCALENDAR
VERSION:2.0
PRODID:-//hacksw/handcal//NONSGML v1.0//EN
BEGIN:VEVENT
DTSTART:20240321T113000Z
DTEND:20240321T130000Z
LOCATION:Campus CentraleSupélec de Gif  Salle VI 118 Bâtiment Eiffel \n3, Rue Joliot Curie \n91190 GIF-SUR-YVETTE
ORGANIZER;CN=Irina Jaubert - Économie Sociale & Solidaire (CSA):MAILTO:irina.jaubert@mailo.com
SUMMARY:Café Frappé 'Pas de Planète B, mais un modèle bis: comment transformer notre modèle agricole?'
DESCRIPTION:Cela fait bien longtemps que notre mode d'agriculture, adopté dans l'après-guerre pour relancer la production de masse à bas coût, est pointé du doigt en raison de ses impacts environnementaux et...
URL:https://association.centralesupelec-alumni.com/fr/group/economie-sociale-solidaire-csa/69/calendar/cafe-frappe-pas-de-planete-b-mais-un-modele-bis-comment-transformer-notre-modele-agricole/2024/03/21/7849
BEGIN:VALARM
TRIGGER:-P0DT1H0M0S
ACTION:DISPLAY
END:VALARM
END:VEVENT
END:VCALENDAR