BEGIN:VCALENDAR
VERSION:2.0
PRODID:-//hacksw/handcal//NONSGML v1.0//EN
BEGIN:VEVENT
DTSTART:20240321T120000Z
DTEND:20240323T160000Z
LOCATION:CentraleSupelec Rennes \nAvenue de la Boulaie \n35510 CESSON-SEVIGNE
ORGANIZER;CN=Michel Ratero - Bretagne (CSA):MAILTO:ratero@orange.fr
SUMMARY:Exposition DAB+
DESCRIPTION:Exposition La Radio Numérique DAB+Inventé à Rennes, le DAB+ revient en force en Bretagne\nOn voit fleurir le sigle « DAB+ » dans les journaux, sur les réseaux et même à la radio. Savez-vous que des...
URL:https://association.centralesupelec-alumni.com/fr/group/bretagne-csa/37/calendar/exposition-dab/2024/03/21/7836
BEGIN:VALARM
TRIGGER:-P0DT1H0M0S
ACTION:DISPLAY
END:VALARM
END:VEVENT
END:VCALENDAR