BEGIN:VCALENDAR
VERSION:2.0
PRODID:-//hacksw/handcal//NONSGML v1.0//EN
BEGIN:VEVENT
DTSTART:20240320T183000Z
DTEND:20240320T221500Z
LOCATION:Lowlander Grand CAfé \n36, Drury Lane \nWC2B 5RR LONDON
ORGANIZER;CN=Christophe Wakim - Grande-Bretagne (CSA):MAILTO:christophe.wakim@gmail.com
SUMMARY:CentraleSupélec Alumni GB: soirée Pub du 20 mars 2024 à Londres
DESCRIPTION:Soirée PUB au LOWLANDER GRAND CAFETube : HOLBORNMercredi 20 Mars 2024, à partir de 18:30\nMerci de t'inscrire en suivant le lien en bas de page (l'inscription est nécessaire pour nous permettre de...
URL:https://association.centralesupelec-alumni.com/fr/group/grande-bretagne-csa/265/calendar/centralesupelec-alumni-gb-soiree-pub-du-20-mars-2024-a-londres/2024/03/20/7832
BEGIN:VALARM
TRIGGER:-P0DT1H0M0S
ACTION:DISPLAY
END:VALARM
END:VEVENT
END:VCALENDAR