BEGIN:VCALENDAR
VERSION:2.0
PRODID:-//hacksw/handcal//NONSGML v1.0//EN
BEGIN:VEVENT
DTSTART:20240321T173000Z
DTEND:20240321T203000Z
LOCATION:Maison Des Ingénieurs et Scientifiques de Lyon (MDIS) \n15, Rue du Plat \n69002 LYON
ORGANIZER;CN=David Tavoularis - Lyon (CSA):MAILTO:david.tavoularis@mycom-osi.com
SUMMARY:【Afterwork JEUX... DE SOCIETE】Jeudi 21 mars  18h30 à la MDIS (Lyon Bellecour)
DESCRIPTION:À vos Jeux, En cette année olympique, le légendaire afterwork du mois de mars se métamorphose exceptionnellement en soirée “Jeux...de société” à la Maison des Ingénieurs et Scientifiques de Lyon...
URL:https://association.centralesupelec-alumni.com/fr/group/lyon-csa/299/calendar/-afterwork-jeux-de-societe-jeudi-21-mars-18h30-a-la-mdis-lyon-bellecour/2024/03/21/7829
BEGIN:VALARM
TRIGGER:-P0DT1H0M0S
ACTION:DISPLAY
END:VALARM
END:VEVENT
END:VCALENDAR