BEGIN:VCALENDAR
VERSION:2.0
PRODID:-//hacksw/handcal//NONSGML v1.0//EN
BEGIN:VEVENT
DTSTART:20241004T120000Z
DTEND:20241004T150000Z
LOCATION:Centrale nucléaire du Bugey \nRoute départementale 20 \n01150 Saint Vulbas
ORGANIZER;CN=Philippe Chinkirch:MAILTO:philippe.chinkirch@centraliens.net
SUMMARY:Visite de la centrale nucléaire du Bugey
DESCRIPTION:La centrale nucléaire du Bugey comprend quatre réacteurs à eau pressurisée (REP) en fonctionnement, un ancien réacteur en cours de démantèlement, et a été choisie pour héberger à l’horizon 2040 deux...
URL:https://association.centralesupelec-alumni.com/fr/event/visite-de-la-centrale-nucleaire-du-bugey/2024/10/04/7818
BEGIN:VALARM
TRIGGER:-P0DT1H0M0S
ACTION:DISPLAY
END:VALARM
END:VEVENT
END:VCALENDAR