BEGIN:VCALENDAR
VERSION:2.0
PRODID:-//hacksw/handcal//NONSGML v1.0//EN
BEGIN:VEVENT
DTSTART:20240314T150000Z
DTEND:20240314T170000Z
LOCATION:Aéroport de Mérignac \n33700 Mérignac
ORGANIZER;CN=Hélène Rinn - Centraliens et Supélec en Aquitaine (CSA):MAILTO:hjc.rinn@mailo.fr
SUMMARY:Visite de l'Aéroport de Bordeaux Mérignac
DESCRIPTION:Visite de l’Aéroport de Bordeaux Mérignac   Nous vous donnons rendez-vous le 14 mars 2024 à 16h pour une visite des infrastructures de l’aéroport de Bordeaux Mérignac. Le programme de la visite est le...
URL:https://association.centralesupelec-alumni.com/fr/group/centraliens-et-supelec-en-aquitaine-csa/287/calendar/visite-de-l-aeroport-de-bordeaux-merignac/2024/03/14/7816
BEGIN:VALARM
TRIGGER:-P0DT1H0M0S
ACTION:DISPLAY
END:VALARM
END:VEVENT
END:VCALENDAR