BEGIN:VCALENDAR
VERSION:2.0
PRODID:-//hacksw/handcal//NONSGML v1.0//EN
BEGIN:VEVENT
DTSTART:20240321T180000Z
DTEND:20240321T203000Z
LOCATION:Maison des ESSEC \n11, Avenue de Friedland \n75008 PARIS
ORGANIZER;CN=Laurent Labaeye - Immobilier (CSA):MAILTO:llabaeye@nexity.fr
SUMMARY:Le réemploi dans l'immobilier : une filière d'avenir qui émerge
DESCRIPTION:\nChers membres,Le Club ESSEC Alumni Immobilier, Villes et Territoires nous ouvre l'inscription à la prochaine conférence qu'il organise le 21 mars 2024  de 19h00 à 21h30 à la Maison des ESSEC...
URL:https://association.centralesupelec-alumni.com/fr/group/immobilier-csa/327/calendar/le-reemploi-dans-l-immobilier-une-filiere-d-avenir-qui-emerge/2024/03/21/7811
BEGIN:VALARM
TRIGGER:-P0DT1H0M0S
ACTION:DISPLAY
END:VALARM
END:VEVENT
END:VCALENDAR