BEGIN:VCALENDAR
VERSION:2.0
PRODID:-//hacksw/handcal//NONSGML v1.0//EN
BEGIN:VEVENT
DTSTART:20240228T180000Z
DTEND:20240228T200000Z
LOCATION:Maison ETP - ESTP 15 rue Cortambert \n15, Rue Cortambert \n75016 PARIS
ORGANIZER;CN=Jean-Christophe STRICH JEAN-CHRISTOPHE - Repreneurs (CSA):MAILTO:jc.strich@free.fr
SUMMARY:Tout commence après la reprise et l’acquisition
DESCRIPTION:Le Groupement CentraleSupelec Repreneurs (membre de G2E) vous informe que vous pouvez participer à la table ronde organisée par Alumni ESTP sur le thème : \nTout commence après la reprise et...
URL:https://association.centralesupelec-alumni.com/fr/group/repreneurs-csa/331/calendar/tout-commence-apres-la-reprise-et-l-acquisition/2024/02/28/7808
BEGIN:VALARM
TRIGGER:-P0DT1H0M0S
ACTION:DISPLAY
END:VALARM
END:VEVENT
END:VCALENDAR