BEGIN:VCALENDAR
VERSION:2.0
PRODID:-//hacksw/handcal//NONSGML v1.0//EN
BEGIN:VEVENT
DTSTART:20240322T074000Z
DTEND:20240322T180000Z
LOCATION:CentraleSupélec - Campus de Rennes \nAvenue de la Boulaie \n35510 CESSON-SEVIGNE
ORGANIZER;CN=CentraleSupélec Alumni:MAILTO:csa-alumni@centralesupelec-alumni.com
SUMMARY:Visite à Rennes : À la découverte du DAB+ et du campus CentraleSupélec
DESCRIPTION:\nEn ces temps où les chaines de radio annoncent qu’elles vont couvrir progressivement le pays avec une nouvelle forme de modulation numérique, le DAB+, nous vous offrons l’opportunité d’en savoir...
URL:https://association.centralesupelec-alumni.com/fr/event/visite-a-rennes-a-la-decouverte-du-dab-et-du-campus-centralesupelec/2024/03/22/7806
BEGIN:VALARM
TRIGGER:-P0DT1H0M0S
ACTION:DISPLAY
END:VALARM
END:VEVENT
END:VCALENDAR