BEGIN:VCALENDAR
VERSION:2.0
PRODID:-//hacksw/handcal//NONSGML v1.0//EN
BEGIN:VEVENT
DTSTART:20240227T180000Z
DTEND:20240227T220000Z
LOCATION:Maison CentraleSupelec Salon Panhard-Levassor \n8, Rue Jean Goujon \n75008 PARIS
ORGANIZER;CN=Isabelle Duvaux-Bechon:MAILTO:isabelle.duvaux-bechon@wanadoo.fr
SUMMARY:SCAF: Bien plus qu’un avion, un système de systèmes !
DESCRIPTION:Le programme SCAF ( Système de Combat Aérien du Futur)organisé par le Groupement Professionnel Aéronautique et Espace\nLaurent Benkemoun (ECP 87), directeur technique du programme SCAF chez Dassault...
URL:https://association.centralesupelec-alumni.com/fr/event/scaf-bien-plus-qu-un-avion-un-systeme-de-systemes/2024/02/27/7802
BEGIN:VALARM
TRIGGER:-P0DT1H0M0S
ACTION:DISPLAY
END:VALARM
END:VEVENT
END:VCALENDAR