BEGIN:VCALENDAR
VERSION:2.0
PRODID:-//hacksw/handcal//NONSGML v1.0//EN
BEGIN:VEVENT
DTSTART:20240326T170000Z
DTEND:20240326T190000Z
LOCATION:Espace Capable, Bâtiment Bouygues \nCampus de Saclay
ORGANIZER;CN=CentraleSupélec Alumni:MAILTO:csa-alumni@centralesupelec-alumni.com
SUMMARY:Apéro de césure
DESCRIPTION:Partir explorer le monde pendant ta césure, ça te dit ? \nL’Association t’aide à réaliser la césure de tes rêves !\nUne année de césure, tu y as déjà pensé ? L’occasion de réaliser un projet ou un...
URL:https://association.centralesupelec-alumni.com/fr/event/apero-de-cesure/2024/03/26/7800
BEGIN:VALARM
TRIGGER:-P0DT1H0M0S
ACTION:DISPLAY
END:VALARM
END:VEVENT
END:VCALENDAR