BEGIN:VCALENDAR
VERSION:2.0
PRODID:-//hacksw/handcal//NONSGML v1.0//EN
BEGIN:VEVENT
DTSTART:20240229T083000Z
DTEND:20240229T153000Z
LOCATION:Gare NOISIEL du RER A \n83, Cours des Roches \n77186 NOISIEL
ORGANIZER;CN=Jean-Louis Pallandre - CSA Ile de France:MAILTO:jean-louis.pallandre@wanadoo.fr
SUMMARY:Randonnée au bord de la Marne le jeudi 29 février
DESCRIPTION:Randonnée au bord de la Marne le jeudi 29 février Départ de Noisiel (gare RER A), arrivée à la gare de Nogent-Le Perreux (RER E)Parcours de 9km en matinée et 6km après le repas. 70m de dénivelé...
URL:https://association.centralesupelec-alumni.com/fr/group/csa-ile-de-france/587/calendar/randonnee-au-bord-de-la-marne-le-jeudi-29-fevrier/2024/02/29/7781
BEGIN:VALARM
TRIGGER:-P0DT1H0M0S
ACTION:DISPLAY
END:VALARM
END:VEVENT
END:VCALENDAR