BEGIN:VCALENDAR
VERSION:2.0
PRODID:-//hacksw/handcal//NONSGML v1.0//EN
BEGIN:VEVENT
DTSTART:20240229T173000Z
DTEND:20240229T193000Z
LOCATION:Campus CentraleSupélec de Metz \n2, Rue Edouard Belin \n57070 METZ
ORGANIZER;CN=Irina Jaubert - Économie Sociale & Solidaire (CSA):MAILTO:irina.jaubert@mailo.com
SUMMARY:Les rendez-vous de la Shift: un modèle de société alternatif au capitalisme, est-il possible?
DESCRIPTION:CentraleSupélec a décidé de positionner le campus de Metz en tant qu’Atelier des Transitions pour une meilleure prise en compte des enjeux de transition écologique et sociale au sein de...
URL:https://association.centralesupelec-alumni.com/fr/group/economie-sociale-solidaire-csa/69/calendar/les-rendez-vous-de-la-shift-un-modele-de-societe-alternatif-au-capitalisme-est-il-possible/2024/02/29/7775
BEGIN:VALARM
TRIGGER:-P0DT1H0M0S
ACTION:DISPLAY
END:VALARM
END:VEVENT
END:VCALENDAR