BEGIN:VCALENDAR
VERSION:2.0
PRODID:-//hacksw/handcal//NONSGML v1.0//EN
BEGIN:VEVENT
DTSTART:20240322T093000Z
DTEND:20240322T110000Z
LOCATION:Musée de cluny \n28, Rue du Sommerard \n75005 PARIS
ORGANIZER;CN=Jacqueline Pasdeloup - CSA Ile de France:MAILTO:jacqueline@asso-supelec.org
SUMMARY:Exposition " Les arts en France sous Charles VII " au musée de Cluny
DESCRIPTION:Légende et crédit :  \nDais dit de Charles VII : deux anges tenant une couronne, d’après Jacob de Littemont (?), Vers 1430-1440\nMusée du Louvre © RMN-Grand Palais (musée du Louvre) / Stéphane...
URL:https://association.centralesupelec-alumni.com/fr/group/csa-ile-de-france/587/calendar/exposition-les-arts-en-france-sous-charles-vii-au-musee-de-cluny/2024/03/22/7755
BEGIN:VALARM
TRIGGER:-P0DT1H0M0S
ACTION:DISPLAY
END:VALARM
END:VEVENT
END:VCALENDAR