BEGIN:VCALENDAR
VERSION:2.0
PRODID:-//hacksw/handcal//NONSGML v1.0//EN
BEGIN:VEVENT
DTSTART:20241010T070000Z
DTEND:20241011T170000Z
LOCATION:
ORGANIZER;CN=Jacqueline Pasdeloup:MAILTO:jacqueline@asso-supelec.org
SUMMARY:Job-dating en ligne avec Whats4U l'inter-association des alumni
DESCRIPTION:\nJeudi 10 et vendredi 11 octobre : jobdating en ligne avec les recruteurs. \nPour y participer, inscrivez-vous gratuitement sur Seekube pour postuler aux offres d'emploi et solliciter un rendez-vous ...
URL:https://association.centralesupelec-alumni.com/fr/event/job-dating-en-ligne-avec-whats4u-l-inter-association-des-alumni/2024/10/10/7749
BEGIN:VALARM
TRIGGER:-P0DT1H0M0S
ACTION:DISPLAY
END:VALARM
END:VEVENT
END:VCALENDAR