BEGIN:VCALENDAR
VERSION:2.0
PRODID:-//hacksw/handcal//NONSGML v1.0//EN
BEGIN:VEVENT
DTSTART:20241007T150000Z
DTEND:20241007T190000Z
LOCATION:Hôtel des Arts et Métiers \n9bis, Avenue d'Iéna \n75116 PARIS
ORGANIZER;CN=Jacqueline Pasdeloup:MAILTO:jacqueline@asso-supelec.org
SUMMARY:Wats4u : Afterwork avec des entreprises qui recrutent  / EN PRESENTIEL
DESCRIPTION:\nEN PRESENTIEL RENCONTREZ DES ENTREPRISES QUI RECRUTENT\nhttps://28m5h.r.bh.d.sendibt3.com/mk/cl/f/sh/1f8JIKXx3IkdaCaCidrV8FohKD/mxkgxLajXd2T\nPour toute question, vous pouvez contacter...
URL:https://association.centralesupelec-alumni.com/fr/event/wats4u-afterwork-avec-des-entreprises-qui-recrutent-en-presentiel/2024/10/07/7748
BEGIN:VALARM
TRIGGER:-P0DT1H0M0S
ACTION:DISPLAY
END:VALARM
END:VEVENT
END:VCALENDAR