BEGIN:VCALENDAR
VERSION:2.0
PRODID:-//hacksw/handcal//NONSGML v1.0//EN
BEGIN:VEVENT
DTSTART:20240319T173000Z
DTEND:20240319T183000Z
LOCATION:
ORGANIZER;CN=Jacqueline Pasdeloup:MAILTO:jacqueline@asso-supelec.org
SUMMARY:Manager en fortes turbulences : une opportunité de... (re)prendre sa vie en main ?
DESCRIPTION:A la demande de personnes n'ayant pu assister à ce webinaire/atelier en Novembre,\n nous remercions Sophie et Robert de proposer une nouvelle session de :\nManager en fortes turbulences :  une...
URL:https://association.centralesupelec-alumni.com/fr/event/manager-en-fortes-turbulences-une-opportunite-de-re-prendre-sa-vie-en-main/2024/03/19/7740
BEGIN:VALARM
TRIGGER:-P0DT1H0M0S
ACTION:DISPLAY
END:VALARM
END:VEVENT
END:VCALENDAR