BEGIN:VCALENDAR
VERSION:2.0
PRODID:-//hacksw/handcal//NONSGML v1.0//EN
BEGIN:VEVENT
DTSTART:20240226T180000Z
DTEND:20240226T190000Z
LOCATION:https://www.arts-et-metiers.asso.fr/events/134175 \n9, Avenue d'Iéna \n75116 PARIS
ORGANIZER;CN=Christian Ledoux - Automobile (CSA):MAILTO:christian.ledoux64@outlook.fr
SUMMARY:Les carburants "eFuels", et zoom sur le projet HyMot (moteur standard à pistons adapté pour carburer à l'Hydrogène)
DESCRIPTION:Conférence de Antoine Ponthieux (Bosch) et de Mickael Matrat (IFPen)Lien d'inscription : https://www.arts-et-metiers.asso.fr/events/134175 ou...
URL:https://association.centralesupelec-alumni.com/fr/group/automobile-csa/317/calendar/les-carburants-efuels-et-zoom-sur-le-projet-hymot-moteur-standard-a-pistons-adapte-pour-carburer-a-l-hydrogene/2024/02/26/7727
BEGIN:VALARM
TRIGGER:-P0DT1H0M0S
ACTION:DISPLAY
END:VALARM
END:VEVENT
END:VCALENDAR