BEGIN:VCALENDAR
VERSION:2.0
PRODID:-//hacksw/handcal//NONSGML v1.0//EN
BEGIN:VEVENT
DTSTART:20240202T110000Z
DTEND:20240202T130000Z
LOCATION:En voûte et moi \n5, Rue Denuzière \n69002 LYON
ORGANIZER;CN=David Tavoularis - Lyon (CSA):MAILTO:david.tavoularis@mycom-osi.com
SUMMARY:CACCS - Déjeuner Malin du vendredi 2 février
DESCRIPTION:Chers toutes et tous,J’ai le plaisir de vous annoncer notre prochain déjeuner malin  le vendredi 2 février à midi.Ces repas sont toujours des moments sympathiques, d’ouverture et d’échanges...
URL:https://association.centralesupelec-alumni.com/fr/group/lyon-csa/299/calendar/caccs-dejeuner-malin-du-vendredi-2-fevrier/2024/02/02/7724
BEGIN:VALARM
TRIGGER:-P0DT1H0M0S
ACTION:DISPLAY
END:VALARM
END:VEVENT
END:VCALENDAR