BEGIN:VCALENDAR
VERSION:2.0
PRODID:-//hacksw/handcal//NONSGML v1.0//EN
BEGIN:VEVENT
DTSTART:20240228T070000Z
DTEND:20240228T090000Z
LOCATION:Maison CentraleSupélec Alumni \n8 RUE JEAN GOUJON \n75008 PARIS
ORGANIZER;CN=CentraleSupélec Alumni:MAILTO:csa-alumni@centralesupelec-alumni.com
SUMMARY:Face à Face avec Jean Pisani-Ferry (S 73) - Économiste
DESCRIPTION:\nJean Pisani-Ferry (S 73) - Économiste« Peut-on atteindre la neutralité climatique ? »\nJean Pisani-Ferry est Senior Fellow à Bruegel (Bruxelles) et 'Non-Resident Senior Fellow' au Peterson Institute...
URL:https://association.centralesupelec-alumni.com/fr/event/face-a-face-avec-jean-pisani-ferry-s-73-economiste/2024/02/28/7713
BEGIN:VALARM
TRIGGER:-P0DT1H0M0S
ACTION:DISPLAY
END:VALARM
END:VEVENT
END:VCALENDAR