BEGIN:VCALENDAR
VERSION:2.0
PRODID:-//hacksw/handcal//NONSGML v1.0//EN
BEGIN:VEVENT
DTSTART:20240129T180000Z
DTEND:20240129T200000Z
LOCATION:Hotel des Arts et Metiers \n9, Avenue d'Iéna \n75116 PARIS
ORGANIZER;CN=Christian Ledoux - Automobile (CSA):MAILTO:christian.ledoux64@outlook.fr
SUMMARY:IA dans l'industrie des transports
DESCRIPTION:Lien pour s'inscrire: CYCLE DE CONFERENCE : Conférence IA dans les Industries des Transports (arts-et-metiers.asso.fr) \nPrésentation Générale :Sur l’année 2023, beaucoup de révolutions ont eu lieu...
URL:https://association.centralesupelec-alumni.com/fr/group/automobile-csa/317/calendar/ia-dans-l-industrie-des-transports/2024/01/29/7707
BEGIN:VALARM
TRIGGER:-P0DT1H0M0S
ACTION:DISPLAY
END:VALARM
END:VEVENT
END:VCALENDAR